BEGIN:VCALENDAR
VERSION:2.0
PRODID:-//Tukios.com/
BEGIN:VEVENT
UID:cf917761-5433-4925-abd8-8a682e24fd9f@www.bowvalleyfuneral.ca
DTSTAMP:20260425T205639Z
DTSTART:20260501T190000Z
DTEND:20260501T200000Z
SUMMARY:Burial
DESCRIPTION:
URL:https://www.bowvalleyfuneral.ca/obituaries/kristine-reid
LOCATION: 604 Buffalo St  Banff AB T1L 1E6
GEO:51.17415;-115.56485
END:VEVENT
END:VCALENDAR